BEGIN:VCALENDAR
VERSION:2.0
PRODID:-//Downers Grove Historical Society - ECPv6.15.20//NONSGML v1.0//EN
CALSCALE:GREGORIAN
METHOD:PUBLISH
X-ORIGINAL-URL:https://dghistory.org
X-WR-CALDESC:Events for Downers Grove Historical Society
REFRESH-INTERVAL;VALUE=DURATION:PT1H
X-Robots-Tag:noindex
X-PUBLISHED-TTL:PT1H
BEGIN:VTIMEZONE
TZID:America/Chicago
BEGIN:DAYLIGHT
TZOFFSETFROM:-0600
TZOFFSETTO:-0500
TZNAME:CDT
DTSTART:20250309T080000
END:DAYLIGHT
BEGIN:STANDARD
TZOFFSETFROM:-0500
TZOFFSETTO:-0600
TZNAME:CST
DTSTART:20251102T070000
END:STANDARD
BEGIN:DAYLIGHT
TZOFFSETFROM:-0600
TZOFFSETTO:-0500
TZNAME:CDT
DTSTART:20260308T080000
END:DAYLIGHT
BEGIN:STANDARD
TZOFFSETFROM:-0500
TZOFFSETTO:-0600
TZNAME:CST
DTSTART:20261101T070000
END:STANDARD
BEGIN:DAYLIGHT
TZOFFSETFROM:-0600
TZOFFSETTO:-0500
TZNAME:CDT
DTSTART:20270314T080000
END:DAYLIGHT
BEGIN:STANDARD
TZOFFSETFROM:-0500
TZOFFSETTO:-0600
TZNAME:CST
DTSTART:20271107T070000
END:STANDARD
END:VTIMEZONE
BEGIN:VEVENT
DTSTART;TZID=America/Chicago:20260425T090000
DTEND;TZID=America/Chicago:20260425T230000
DTSTAMP:20260422T001530
CREATED:20260218T002219Z
LAST-MODIFIED:20260413T032408Z
UID:20807-1777107600-1777158000@dghistory.org
SUMMARY:Forester's Tree Walk
DESCRIPTION:A group walk through Hoopers Hollow Park highlighting a variety of trees including a mix of mature and newly planted trees. Characteristics\, interesting facts and bark and structure identification tips will be discussed along with planting suggestions for homeowners yards.  Greg Soltwisch\, Downers Grove Village Forester will host and narrate the walk as well as invite questions from attendees. \nRegister for this event at greenergrove.org (no deadline).
URL:https://dghistory.org/event/foresters-tree-walk/
LOCATION:Hoopers Hollow\, 1810 Chicago Avenue\, Downers Grove\, 60515\, United States
CATEGORIES:Community Event,FoundersFest
ATTACH;FMTTYPE=image/avif:https://dghistory.org/wp-content/uploads/2026/02/GreenerGrove-FINAL.jpg.avif
ORGANIZER;CN="Greener Grove":MAILTO:info@greenergrove.org
END:VEVENT
BEGIN:VEVENT
DTSTART;TZID=America/Chicago:20260427T190000
DTEND;TZID=America/Chicago:20260427T200000
DTSTAMP:20260422T001530
CREATED:20260401T212009Z
LAST-MODIFIED:20260410T140554Z
UID:21226-1777316400-1777320000@dghistory.org
SUMMARY:Israel Blackburn: A Journey From Slavery to Founder of Downers Grove
DESCRIPTION:Due to popular demand\, we are reprising this presentation on the life of Israel Blackburn. In case you missed this talk last year at the Downers Grove Library\, we  have been invited to the Helen Plum Library in Lombard for this talk. \nIsrael was born into slavery in 1818 in Kentucky. In 1865\, during the Civil War\, he performed garrison duty with the 124th U.S. Colored Infantry in Kentucky. Blackburn moved his family north to DuPage County\, Illinois\, and settled in Downers Grove shortly after the war. He became a respected member of the community and\, within a few years\, in 1873\, was one of the 38 founding signers of the Incorporation Papers for the new Village of Downers Grove. \nIn this presentation\, genealogist\, local historian\, and Downers Grove Historical Society President Marty Acks\, will tell Israel’s story by following the large trove of archival material that documents many aspects of his unique life. \nClick here to register on the Helen Plum Library website. There is no charge for this presentation. \n 
URL:https://dghistory.org/event/israel-blackburn-presentation/
LOCATION:Helen Plum Library\, 411 S Main Street\, Lombard\, IL\, 60148\, United States
CATEGORIES:Community Event
ATTACH;FMTTYPE=image/webp:https://dghistory.org/wp-content/uploads/2024/12/event-hero-blackburn-2.webp
ORGANIZER;CN="Helen Plum Library (Lombard%2C IL)":MAILTO:https://www.helenplum.org/contact
END:VEVENT
BEGIN:VEVENT
DTSTART;TZID=America/Chicago:20260502T090000
DTEND;TZID=America/Chicago:20260502T110000
DTSTAMP:20260422T001530
CREATED:20260220T193358Z
LAST-MODIFIED:20260220T193439Z
UID:20932-1777712400-1777719600@dghistory.org
SUMMARY:Family Bike Ride 2026
DESCRIPTION:Registration: 9:00 am – day of event\nDeparture: 9:30 am sharp\nStart/Return Location: Fishel Park\, Southeast corner \n\nAll ages are welcome for this FREE family-friendly event! Join us on this slow bicycle ride around the historic neighborhoods of Downers Grove. \nThis is just one of many fun FoundersFest events…learn more here!
URL:https://dghistory.org/event/family-bike-ride-2026/
LOCATION:Fishel Park\, 1036 Grove St.\, Downers Grove\, IL\, 60515
CATEGORIES:Community Event,FoundersFest
ATTACH;FMTTYPE=image/jpeg:https://dghistory.org/wp-content/uploads/2026/02/Bike-Ride-Banner.jpg
END:VEVENT
BEGIN:VEVENT
DTSTART;TZID=America/Chicago:20260502T093000
DTEND;TZID=America/Chicago:20260502T110000
DTSTAMP:20260422T001530
CREATED:20260217T215547Z
LAST-MODIFIED:20260324T205104Z
UID:20799-1777714200-1777719600@dghistory.org
SUMMARY:Walking the Grove
DESCRIPTION:Registration is 9:00 am to 11:00 am. You may choose from: (1) Guided Group walk begins at 9:30 a.m. (Registration at 9:00 a.m.) or (2) Self-guided walk can take place anytime. Two routes are offered – 3 miles and 6 miles. The Guided Walk is a relaxed pace\, group walk. The self-guided walk is at your own pace. The walk route includes downtown\, neighborhoods\, and parks throughout Downers Grove. Registration is day of\, on-site. \nSponsored by Windy City Walkers.
URL:https://dghistory.org/event/walking-the-grove-2/
LOCATION:The Downers Grove Museum\, 831 Maple Avenue\, Downers Grove\, IL\, 60515
CATEGORIES:Community Event,FoundersFest
ATTACH;FMTTYPE=image/jpeg:https://dghistory.org/wp-content/uploads/2026/02/Windy-City-Walkers-Banner-scaled.jpg
END:VEVENT
BEGIN:VEVENT
DTSTART;TZID=America/Chicago:20261012T190000
DTEND;TZID=America/Chicago:20261012T203000
DTSTAMP:20260422T001530
CREATED:20260416T155136Z
LAST-MODIFIED:20260416T155946Z
UID:21375-1791831600-1791837000@dghistory.org
SUMMARY:The Story of Israel Blackburn at the Schaumburg Township District Library
DESCRIPTION:We have been invited to tell the life story of Israel Blackburn at the Schaumburg Township District Library. \nIsrael was born into slavery in 1818 in Kentucky. In 1865\, during the Civil War\, he performed garrison duty with the 124th U.S. Colored Infantry in Kentucky. Blackburn moved his family north to DuPage County\, Illinois\, and settled in Downers Grove shortly after the war. He became a respected member of the community and\, within a few years\, in 1873\, was one of the 38 founding signers of the Incorporation Papers for the new Village of Downers Grove. \nIn this presentation\, genealogist\, local historian\, and Downers Grove Historical Society President Marty Acks\, will tell Israel’s story by following the large trove of archival material that documents many aspects of his unique life. \nRegistration details will follow. There is no charge for this presentation. \n 
URL:https://dghistory.org/event/israel-blackburn-a-journey-from-slavery-schaumburg/
LOCATION:Schaumburg Township District Library\, 130 South Roselle Road\, Schaumburg\, IL\, 60159-0567\, United States
CATEGORIES:Community Event
ATTACH;FMTTYPE=image/webp:https://dghistory.org/wp-content/uploads/2024/12/event-hero-blackburn-2.webp
ORGANIZER;CN="Schaumburg Township District Library":MAILTO:contact@stdl.org
END:VEVENT
BEGIN:VEVENT
DTSTART;TZID=America/Chicago:20261118T190000
DTEND;TZID=America/Chicago:20261118T203000
DTSTAMP:20260422T001530
CREATED:20260416T161612Z
LAST-MODIFIED:20260416T162841Z
UID:21381-1795028400-1795033800@dghistory.org
SUMMARY:The Story of Israel Blackburn at the DuPage County Genealogical Society
DESCRIPTION:We have been invited to tell the life story of Israel Blackburn for the monthly meeting of the DuPage County Genealogical Society. The presentation will be held at the Wheaton Public Library. \nIsrael was born into slavery in 1818 in Kentucky. In 1865\, during the Civil War\, he performed garrison duty with the 124th U.S. Colored Infantry in Kentucky. Blackburn moved his family north to DuPage County\, Illinois\, and settled in Downers Grove shortly after the war. He became a respected member of the community and\, within a few years\, in 1873\, was one of the 38 founding signers of the Incorporation Papers for the new Village of Downers Grove. \nIn this presentation\, genealogist\, local historian\, and Downers Grove Historical Society President Marty Acks\, will tell Israel’s story by following the large trove of archival material that documents many aspects of his unique life. \nRegistration details will follow. There is no charge for this presentation. \n 
URL:https://dghistory.org/event/the-story-of-israel-blackburn-for-at-the-wheaton-library/
LOCATION:Wheaton Public Library\, 225 N. Cross St.\, Wheaton\, 60187\, United States
CATEGORIES:Community Event
ATTACH;FMTTYPE=image/webp:https://dghistory.org/wp-content/uploads/2024/12/event-hero-blackburn-2.webp
END:VEVENT
END:VCALENDAR